BEGIN:VCALENDAR
METHOD:PUBLISH
VERSION:2.0
PRODID:-//hacksw/handcal//NONSGML v1.0//EN
X-WR-TIMEZONE:Australia/Melbourne
CALSCALE:GREGORIAN
BEGIN:VEVENT
DTSTART;TZID=Australia/Melbourne:20260521T183000
DTEND;TZID=Australia/Melbourne:20260521T220000
UID:70822159286988827EE0AC4993690287106233238926988827EE0AD669023550
DTSTAMP:20260424T003003
LOCATION:Gold Leaf Chinese Restaurant, 155 Burwood Highway, Burwood East.
DESCRIPTION:This month\'s Club meeting is a social night and we will be ea
 ting a Chinese banquet. Cost for the banquet will be $55.00 per person, pa
 yable on the night. The restaurant is fully licensed and BYO, wine only. A
 s a member bonus the Club will pay the corkage charge on any BYO wine. You
  can view an indicative menu by clicking here. RSVP - an RSVP to attend is
  mandatory and must be received by not later than the evening of Monday th
 e 18th of May. Very important - as this is a banquet please be sure to ind
 icate in the RSVP any food allergies that you have and any dishes that, fo
 r whatever reason, you don\'t, e.g. if you don\'t eat seafood indicate thi
 s.   
URL;VALUE=URI:http://citcarclubvic.org.au/events/view.php?id=7082215928698
 8827EE0AC4993690287106233238926988827EE0AD669023550
SUMMARY:Club monthly meeting - restaurant night
END:VEVENT
END:VCALENDAR
